BEGIN:VCALENDAR
VERSION:2.0
PRODID:-//Medizin und Menschlichkeit - ECPv6.15.20//NONSGML v1.0//EN
CALSCALE:GREGORIAN
METHOD:PUBLISH
X-WR-CALNAME:Medizin und Menschlichkeit
X-ORIGINAL-URL:https://medizinundmenschlichkeit.de
X-WR-CALDESC:Veranstaltungen für Medizin und Menschlichkeit
REFRESH-INTERVAL;VALUE=DURATION:PT1H
X-Robots-Tag:noindex
X-PUBLISHED-TTL:PT1H
BEGIN:VTIMEZONE
TZID:UTC
BEGIN:STANDARD
TZOFFSETFROM:+0000
TZOFFSETTO:+0000
TZNAME:UTC
DTSTART:20240101T000000
END:STANDARD
END:VTIMEZONE
BEGIN:VEVENT
DTSTART;TZID=UTC:20250311T200000
DTEND;TZID=UTC:20250311T210000
DTSTAMP:20260426T042841
CREATED:20250112T202411Z
LAST-MODIFIED:20250112T202411Z
UID:2857-1741723200-1741726800@medizinundmenschlichkeit.de
SUMMARY:Kern-Zoom
DESCRIPTION:Der MuM-Kern ist unser aktives Planungsorgan. Hier besprechen wir etwa im 3-Wochen-Rhythmus alle aktuellen Planungen und nehmen und Zeit zum Einchecken und miteinander verbinden.  \nDieser Termin ist nicht öffentlich.
URL:https://medizinundmenschlichkeit.de/event/kern-zoom-5/
LOCATION:online
CATEGORIES:Vereinsarbeit
END:VEVENT
BEGIN:VEVENT
DTSTART;VALUE=DATE:20250317
DTEND;VALUE=DATE:20250323
DTSTAMP:20260426T042841
CREATED:20240405T162512Z
LAST-MODIFIED:20250111T213227Z
UID:2512-1742169600-1742687999@medizinundmenschlichkeit.de
SUMMARY:Frühlingsakademie 2025
DESCRIPTION:Unser Herzstück! Die Frühlingsakademie ist seit über 15 Jahren die feste Größe im Jahreskalender. Es gibt jedes Jahr ein neues Team zur Vorbereitung und Durchführung\, bestehend aus alten und neuen MuMies. Wir freuen uns\, wenn DU dabei bist!
URL:https://medizinundmenschlichkeit.de/event/fruehlingsakademie-2025/
LOCATION:Domicilium Weyarn\, Holzkirchener Str. 3\, Weyarn\, Bayern\, 83629\, Deutschland
CATEGORIES:Frühlingsakademie
END:VEVENT
BEGIN:VEVENT
DTSTART;TZID=UTC:20250330T200000
DTEND;TZID=UTC:20250330T210000
DTSTAMP:20260426T042841
CREATED:20250112T202551Z
LAST-MODIFIED:20250112T202551Z
UID:2859-1743364800-1743368400@medizinundmenschlichkeit.de
SUMMARY:Kern-Zoom
DESCRIPTION:Der MuM-Kern ist unser aktives Planungsorgan. Hier besprechen wir etwa im 3-Wochen-Rhythmus alle aktuellen Planungen und nehmen und Zeit zum Einchecken und miteinander verbinden.  \nDieser Termin ist nicht öffentlich.
URL:https://medizinundmenschlichkeit.de/event/kern-zoom-6/
LOCATION:online
CATEGORIES:Vereinsarbeit
END:VEVENT
END:VCALENDAR