BEGIN:VCALENDAR
VERSION:2.0
PRODID:-//Medizin und Menschlichkeit - ECPv6.15.20//NONSGML v1.0//EN
CALSCALE:GREGORIAN
METHOD:PUBLISH
X-WR-CALNAME:Medizin und Menschlichkeit
X-ORIGINAL-URL:https://medizinundmenschlichkeit.de
X-WR-CALDESC:Veranstaltungen für Medizin und Menschlichkeit
REFRESH-INTERVAL;VALUE=DURATION:PT1H
X-Robots-Tag:noindex
X-PUBLISHED-TTL:PT1H
BEGIN:VTIMEZONE
TZID:UTC
BEGIN:STANDARD
TZOFFSETFROM:+0000
TZOFFSETTO:+0000
TZNAME:UTC
DTSTART:20240101T000000
END:STANDARD
END:VTIMEZONE
BEGIN:VEVENT
DTSTART;TZID=UTC:20250715T200000
DTEND;TZID=UTC:20250715T213000
DTSTAMP:20260425T210654
CREATED:20250516T124536Z
LAST-MODIFIED:20250516T124536Z
UID:2978-1752609600-1752615000@medizinundmenschlichkeit.de
SUMMARY:Kern-Zoom
DESCRIPTION:Der MuM-Kern ist unser aktives Planungsorgan. Hier besprechen wir etwa im 3-Wochen-Rhythmus alle aktuellen Planungen und nehmen und Zeit zum Einchecken und miteinander verbinden.  \nDieser Termin ist nicht öffentlich.
URL:https://medizinundmenschlichkeit.de/event/kern-zoom-9/
LOCATION:online
CATEGORIES:Vereinsarbeit
END:VEVENT
BEGIN:VEVENT
DTSTART;TZID=UTC:20250716T190000
DTEND;TZID=UTC:20250716T220000
DTSTAMP:20260425T210654
CREATED:20250612T110555Z
LAST-MODIFIED:20250612T110555Z
UID:2991-1752692400-1752703200@medizinundmenschlichkeit.de
SUMMARY:MuM-Einführungsseminar
DESCRIPTION:Du hast von „MuM“ gehört\, kennst Menschen\, die schon mal auf einer Frühlingsakademie waren und/oder hast uns in den sozialen Netzwerken über eine Websuche entdeckt – und willst genauer wissen\, was MuM ist und wie sich das anfühlt\, mehr Menschlichkeit in dein Leben einzuladen? \nDann ist unser Einführungsseminar genau das Richtige für dich! Lerne unseren ehrenamtlichen Verein und die Haltung\, mit der wir arbeiten\, direkt kennen. Die Anmeldung findest du hier! \nWir freuen uns auf DICH! \nFacts: kostenfreies MuM-Seminar\, online via zoom\, ca 2\,5h (je nach Teilnehmendenzahl)
URL:https://medizinundmenschlichkeit.de/event/mum-einfuehrungsseminar/
LOCATION:online
END:VEVENT
END:VCALENDAR