BEGIN:VCALENDAR
VERSION:2.0
PRODID:-//Medizin und Menschlichkeit - ECPv6.15.20//NONSGML v1.0//EN
CALSCALE:GREGORIAN
METHOD:PUBLISH
X-ORIGINAL-URL:https://medizinundmenschlichkeit.de
X-WR-CALDESC:Veranstaltungen für Medizin und Menschlichkeit
REFRESH-INTERVAL;VALUE=DURATION:PT1H
X-Robots-Tag:noindex
X-PUBLISHED-TTL:PT1H
BEGIN:VTIMEZONE
TZID:UTC
BEGIN:STANDARD
TZOFFSETFROM:+0000
TZOFFSETTO:+0000
TZNAME:UTC
DTSTART:20240101T000000
END:STANDARD
END:VTIMEZONE
BEGIN:VEVENT
DTSTART;TZID=UTC:20250803T200000
DTEND;TZID=UTC:20250803T213000
DTSTAMP:20260425T192113
CREATED:20250516T124622Z
LAST-MODIFIED:20250516T124622Z
UID:2980-1754251200-1754256600@medizinundmenschlichkeit.de
SUMMARY:Kern-Zoom
DESCRIPTION:Der MuM-Kern ist unser aktives Planungsorgan. Hier besprechen wir etwa im 3-Wochen-Rhythmus alle aktuellen Planungen und nehmen und Zeit zum Einchecken und miteinander verbinden.  \nDieser Termin ist nicht öffentlich.
URL:https://medizinundmenschlichkeit.de/event/kern-zoom-10/
LOCATION:online
CATEGORIES:Vereinsarbeit
END:VEVENT
BEGIN:VEVENT
DTSTART;TZID=UTC:20250812T080000
DTEND;TZID=UTC:20250812T180000
DTSTAMP:20260425T192113
CREATED:20250811T193228Z
LAST-MODIFIED:20250811T193228Z
UID:3014-1754985600-1755021600@medizinundmenschlichkeit.de
SUMMARY:Sommerakademie in Witten
DESCRIPTION:Wir stellen uns und unsere Arbeit beim Markt der Möglichkeiten auf der Sommerakademie für integrative Medizin an der Uni in Witten vor. Wir freuen uns auf euch!
URL:https://medizinundmenschlichkeit.de/event/sommerakademie-in-witten/
LOCATION:Universität Witten-Herdecke
END:VEVENT
BEGIN:VEVENT
DTSTART;TZID=UTC:20250826T200000
DTEND;TZID=UTC:20250826T213000
DTSTAMP:20260425T192113
CREATED:20250811T193820Z
LAST-MODIFIED:20250811T193820Z
UID:3018-1756238400-1756243800@medizinundmenschlichkeit.de
SUMMARY:Kern-Zoom
DESCRIPTION:Der MuM-Kern ist unser aktives Planungsorgan. Hier besprechen wir etwa im 3-Wochen-Rhythmus alle aktuellen Planungen und nehmen und Zeit zum Einchecken und miteinander verbinden.  \nDieser Termin ist nicht öffentlich.
URL:https://medizinundmenschlichkeit.de/event/kern-zoom-11/
LOCATION:online
END:VEVENT
END:VCALENDAR