BEGIN:VCALENDAR
VERSION:2.0
PRODID:-//Medizin und Menschlichkeit - ECPv6.15.20//NONSGML v1.0//EN
CALSCALE:GREGORIAN
METHOD:PUBLISH
X-ORIGINAL-URL:https://medizinundmenschlichkeit.de
X-WR-CALDESC:Veranstaltungen für Medizin und Menschlichkeit
REFRESH-INTERVAL;VALUE=DURATION:PT1H
X-Robots-Tag:noindex
X-PUBLISHED-TTL:PT1H
BEGIN:VTIMEZONE
TZID:UTC
BEGIN:STANDARD
TZOFFSETFROM:+0000
TZOFFSETTO:+0000
TZNAME:UTC
DTSTART:20240101T000000
END:STANDARD
END:VTIMEZONE
BEGIN:VEVENT
DTSTART;VALUE=DATE:20251107
DTEND;VALUE=DATE:20251110
DTSTAMP:20260425T141046
CREATED:20250811T195125Z
LAST-MODIFIED:20250811T195125Z
UID:3030-1762473600-1762732799@medizinundmenschlichkeit.de
SUMMARY:Mitgliederversammlung 2026
DESCRIPTION:Vom 07.-09. November 2025 findet unsere nächste MV statt. Hier kommen unsere Vereinsmitglieder zusammen\, wir tauschen uns aus\, verbinden uns und sind am Samstag natürlich mit der MV selbst beschäftigt. Es stehen „kleine“ Wahlen an\, es werden die 4 Beisitzenden in den Beirat gewählt. \nAuf der MV feiern wir\, was im vergangenen Jahr möglich wurde und zünden wir neue Ideen fürs nächste Jahr. Das Team für die Frühlingsakademie findet sich und auch ein frisch gewählter Beirat ergänzt unseren Vorstand. \nUnd das beste zum Feste: Auch Gäste sind herzlich Willkommen! Wenn du unseren Verein und unsere Arbeit kennenlernen willst\, melde dich per Mail an kontakt(at)medizinundmenschlichkeit.de \nPS: Der Ort wird noch bekannt gegeben!
URL:https://medizinundmenschlichkeit.de/event/mitgliederversammlung-2026/
END:VEVENT
BEGIN:VEVENT
DTSTART;TZID=UTC:20251118T200000
DTEND;TZID=UTC:20251118T213000
DTSTAMP:20260425T141046
CREATED:20250811T194149Z
LAST-MODIFIED:20250811T194149Z
UID:3026-1763496000-1763501400@medizinundmenschlichkeit.de
SUMMARY:Kern-Zoom
DESCRIPTION:Der MuM-Kern ist unser aktives Planungsorgan. Hier besprechen wir etwa im 3-Wochen-Rhythmus alle aktuellen Planungen und nehmen und Zeit zum Einchecken und miteinander verbinden.  \nDieser Termin ist nicht öffentlich.
URL:https://medizinundmenschlichkeit.de/event/kern-zoom-15/
LOCATION:online
END:VEVENT
BEGIN:VEVENT
DTSTART;TZID=UTC:20251129T093000
DTEND;TZID=UTC:20251129T173000
DTSTAMP:20260425T141046
CREATED:20251013T200531Z
LAST-MODIFIED:20251019T173318Z
UID:3066-1764408600-1764437400@medizinundmenschlichkeit.de
SUMMARY:"Raum für Weiblichkeit" - Tagesseminar
DESCRIPTION:Wir laden Dich ein\, Deine ganz eigene Weiblichkeit zu erkunden und zu entfalten. Dafür erschaffen wir gemeinsam einen geschützten Kreis von Frauen\, der Raum für Entschleunigung\, Reflexion und Neugier sein kann. Hier finden unter anderem Austausch\, Innehalten\, Bewegung\, Meditation\, Malen\, Gemeinschaft und du als Frau auf deinem individuellen Weg Platz. \nWir widmen uns unter anderem Fragen\, wie: Wer oder wie bist Du als Frau? Wie willst Du als Frau sein? \nDozentinnen\nWir sind Lea Jütten und Christin Braun\, zwei Freundinnen\, Ärztinnen und Seminarleiterinnen aus Frankfurt und Essen. Wir kennen uns seit 8 Jahren über unser Engagement bei Medizin und Menschlichkeit. Wir lieben es achtsame Selbsterfahrungsräume anzubieten\, in denen man sich und anderen menschlich begegnen kann und ausreichend Raum für Integration ist. \nFür wen ist das Seminar?\nDas Seminar richtet sich an Frauen mit Interesse an der Erkundung ihrer Weiblichkeit und ist explizit NICHT nur für Menschen in Gesundheitsberufen geplant. \nKosten für das Seminar: Die Seminargebühr beträgt für Vereinsmitglieder 40€ und Nichtmitglieder 50€. Ein ermäßigter Beitrag ist möglich für Studierende und Auszubildende (Vereinsmitglieder 25€\, Nichtmitglieder 35€). Falls eine Mitgliedschaft gewünscht ist\, dann schick uns gerne eine Mail. \nZum Anmeldungsformular: hier!\nFür Fragen und Anliegen schreibt uns gerne an folgende Mailadresse: raumfuerweiblichkeit@medizinundmenschlichkeit.de
URL:https://medizinundmenschlichkeit.de/event/raum-fuer-weiblichkeit-tagesseminar/
LOCATION:Bürgerzentrum Villa Rü\, Girardetstraße 21\, Essen\, 45131\, Germany
ATTACH;FMTTYPE=image/png:https://medizinundmenschlichkeit.de/wp-content/uploads/2025/10/1.png
END:VEVENT
END:VCALENDAR