BEGIN:VCALENDAR
VERSION:2.0
PRODID:-//Medizin und Menschlichkeit - ECPv6.15.20//NONSGML v1.0//EN
CALSCALE:GREGORIAN
METHOD:PUBLISH
X-WR-CALNAME:Medizin und Menschlichkeit
X-ORIGINAL-URL:https://medizinundmenschlichkeit.de
X-WR-CALDESC:Veranstaltungen für Medizin und Menschlichkeit
REFRESH-INTERVAL;VALUE=DURATION:PT1H
X-Robots-Tag:noindex
X-PUBLISHED-TTL:PT1H
BEGIN:VTIMEZONE
TZID:UTC
BEGIN:STANDARD
TZOFFSETFROM:+0000
TZOFFSETTO:+0000
TZNAME:UTC
DTSTART:20250101T000000
END:STANDARD
END:VTIMEZONE
BEGIN:VEVENT
DTSTART;TZID=UTC:20260210T200000
DTEND;TZID=UTC:20260210T213000
DTSTAMP:20260423T103348
CREATED:20251203T222441Z
LAST-MODIFIED:20251203T222441Z
UID:3096-1770753600-1770759000@medizinundmenschlichkeit.de
SUMMARY:Kern-Zoom
DESCRIPTION:Der MuM-Kern ist unser aktives Planungsorgan. Hier besprechen wir etwa im 3-Wochen-Rhythmus alle aktuellen Planungen und nehmen und Zeit zum Einchecken und miteinander verbinden.  \nDieser Termin ist nicht öffentlich.
URL:https://medizinundmenschlichkeit.de/event/kern-zoom-18/
LOCATION:online
CATEGORIES:Vereinsarbeit
END:VEVENT
END:VCALENDAR